BEGIN:VCALENDAR
VERSION:2.0
PRODID:-//JazzArts Charlotte - ECPv5.16.3.1//NONSGML v1.0//EN
CALSCALE:GREGORIAN
METHOD:PUBLISH
X-WR-CALNAME:JazzArts Charlotte
X-ORIGINAL-URL:https://www.thejazzarts.org
X-WR-CALDESC:Events for JazzArts Charlotte
BEGIN:VTIMEZONE
TZID:America/New_York
BEGIN:DAYLIGHT
TZOFFSETFROM:-0500
TZOFFSETTO:-0400
TZNAME:EDT
DTSTART:20250309T070000
END:DAYLIGHT
BEGIN:STANDARD
TZOFFSETFROM:-0400
TZOFFSETTO:-0500
TZNAME:EST
DTSTART:20251102T060000
END:STANDARD
END:VTIMEZONE
BEGIN:VEVENT
DTSTART;TZID=America/New_York:20251010T180000
DTEND;TZID=America/New_York:20251010T193000
DTSTAMP:20260423T100642
CREATED:20250520T141617Z
LAST-MODIFIED:20251027T053401Z
UID:3728-1760119200-1760124600@www.thejazzarts.org
SUMMARY:JAZZ ROOM Presents: Luther S. Allison Quartet
DESCRIPTION:JAZZ ROOM Presents: Luther S. Allison Quartet\nOctober 10th & 11th \nClassic Jazz Piano\nA rising star of the jazz piano tradition and JazzArts Academy alum\, Luther Allison is known for his soulful lyrical touch and dynamic modern swing. Having performed with luminaries including Samara Joy\, Rodney Whitaker\, and Etienne Charles\, this Grammy-winning artist brings his acclaimed quartet to the JAZZ ROOM for an unforgettable “Homecoming” weekend. \nLuther S. Allison is a Charlotte-born pianist\, drummer\, composer\, and educator recognized for his blues-based\, gospel-inspired approach rooted in bebop and soul. A graduate of the University of Tennessee and Michigan State University\, he has toured internationally with artists including Samara Joy\, Jazzmeia Horn\, Rodney Whitaker\, and The Baylor Project. His debut album I Owe It All To You on Posi-Tone Records earned 4.5 stars from Downbeat\, which praised his artistry as “a pianist who seems to have no weak points.” Allison has performed at premier venues and festivals worldwide\, composed for the Jazz at Lincoln Center Orchestra at Wynton Marsalis’ commission\, and is a proud Yamaha artist. \nThe JAZZ ROOM provides a casual and intimate setting with tables and a full bar\, reminiscent of the classic jazz rooms of yesteryear. \nThank you to our JAZZ ROOM contributors: The City of Charlotte\, O’s Place Jazz\, North Carolina Arts Council and Akers Foundation.
URL:https://www.thejazzarts.org/event/jazz-room-season-23-october/2025-10-10/
LOCATION:Booth Playhouse\, 130 N. Tryon Street\, Charlotte\, 28202\, United States
CATEGORIES:The Jazz Room
ATTACH;FMTTYPE=image/jpeg:https://www.thejazzarts.org/wp-content/uploads/LutherAllison-1200x630-1.jpg
END:VEVENT
END:VCALENDAR